BEGIN:VCALENDAR
VERSION:2.0
PRODID:-//The Catholic Center at NYU - ECPv6.15.20//NONSGML v1.0//EN
CALSCALE:GREGORIAN
METHOD:PUBLISH
X-ORIGINAL-URL:https://nyucatholic.org
X-WR-CALDESC:Events for The Catholic Center at NYU
REFRESH-INTERVAL;VALUE=DURATION:PT1H
X-Robots-Tag:noindex
X-PUBLISHED-TTL:PT1H
BEGIN:VTIMEZONE
TZID:America/New_York
BEGIN:DAYLIGHT
TZOFFSETFROM:-0500
TZOFFSETTO:-0400
TZNAME:EDT
DTSTART:20250309T070000
END:DAYLIGHT
BEGIN:STANDARD
TZOFFSETFROM:-0400
TZOFFSETTO:-0500
TZNAME:EST
DTSTART:20251102T060000
END:STANDARD
BEGIN:DAYLIGHT
TZOFFSETFROM:-0500
TZOFFSETTO:-0400
TZNAME:EDT
DTSTART:20260308T070000
END:DAYLIGHT
BEGIN:STANDARD
TZOFFSETFROM:-0400
TZOFFSETTO:-0500
TZNAME:EST
DTSTART:20261101T060000
END:STANDARD
BEGIN:DAYLIGHT
TZOFFSETFROM:-0500
TZOFFSETTO:-0400
TZNAME:EDT
DTSTART:20270314T070000
END:DAYLIGHT
BEGIN:STANDARD
TZOFFSETFROM:-0400
TZOFFSETTO:-0500
TZNAME:EST
DTSTART:20271107T060000
END:STANDARD
END:VTIMEZONE
BEGIN:VEVENT
DTSTART;TZID=America/New_York:20260505T133000
DTEND;TZID=America/New_York:20260505T150000
DTSTAMP:20260422T045113
CREATED:20260311T194132Z
LAST-MODIFIED:20260311T194316Z
UID:10000047-1777987800-1777993200@nyucatholic.org
SUMMARY:John Jay Newman: History of Marian Apparitions with Prof. Pfiefer
DESCRIPTION:At John Jay\, for information\, reach out to the club. \n1.114 New Building
URL:https://nyucatholic.org/event/john-jay-newman-history-of-marian-apparitions-with-prof-pfiefer/
CATEGORIES:John Jay Newman,Undergraduate
END:VEVENT
BEGIN:VEVENT
DTSTART;TZID=America/New_York:20260512T133000
DTEND;TZID=America/New_York:20260512T150000
DTSTAMP:20260422T045113
CREATED:20260311T194211Z
LAST-MODIFIED:20260311T194211Z
UID:10000048-1778592600-1778598000@nyucatholic.org
SUMMARY:John Jay Newman: End of the year Mass
DESCRIPTION:At John Jay\, for information\, reach out to the club. \n1.114 New Building
URL:https://nyucatholic.org/event/john-jay-newman-end-of-the-year-mass/
CATEGORIES:John Jay Newman,Undergraduate
END:VEVENT
END:VCALENDAR